BEGIN:VCALENDAR
VERSION:2.0
PRODID:-//Ski Federation - ECPv6.15.20//NONSGML v1.0//EN
CALSCALE:GREGORIAN
METHOD:PUBLISH
X-WR-CALNAME:Ski Federation
X-ORIGINAL-URL:https://skifederation.org
X-WR-CALDESC:Events for Ski Federation
REFRESH-INTERVAL;VALUE=DURATION:PT1H
X-Robots-Tag:noindex
X-PUBLISHED-TTL:PT1H
BEGIN:VTIMEZONE
TZID:America/Denver
BEGIN:DAYLIGHT
TZOFFSETFROM:-0700
TZOFFSETTO:-0600
TZNAME:MDT
DTSTART:20250309T090000
END:DAYLIGHT
BEGIN:STANDARD
TZOFFSETFROM:-0600
TZOFFSETTO:-0700
TZNAME:MST
DTSTART:20251102T080000
END:STANDARD
BEGIN:DAYLIGHT
TZOFFSETFROM:-0700
TZOFFSETTO:-0600
TZNAME:MDT
DTSTART:20260308T090000
END:DAYLIGHT
BEGIN:STANDARD
TZOFFSETFROM:-0600
TZOFFSETTO:-0700
TZNAME:MST
DTSTART:20261101T080000
END:STANDARD
BEGIN:DAYLIGHT
TZOFFSETFROM:-0700
TZOFFSETTO:-0600
TZNAME:MDT
DTSTART:20270314T090000
END:DAYLIGHT
BEGIN:STANDARD
TZOFFSETFROM:-0600
TZOFFSETTO:-0700
TZNAME:MST
DTSTART:20271107T080000
END:STANDARD
END:VTIMEZONE
BEGIN:VEVENT
DTSTART;VALUE=DATE:20260601
DTEND;VALUE=DATE:20260602
DTSTAMP:20260422T230915
CREATED:20260420T003137Z
LAST-MODIFIED:20260421T000047Z
UID:26209-1780272000-1780358399@skifederation.org
SUMMARY:Annual Meeting Early Bird Registration Deadline
DESCRIPTION:Early bird registration ends today.  After this date standard registration rate applies.
URL:https://skifederation.org/event/annual-meeting-early-bird-registration-deadline/
CATEGORIES:Annual Meeting
ATTACH;FMTTYPE=image/jpeg:https://skifederation.org/wp-content/uploads/2025/12/nscf_logo_high_res-400x200-1.jpg
ORGANIZER;CN="Joe Harvis":MAILTO:webmaster@skifederation.org
END:VEVENT
END:VCALENDAR