BEGIN:VCALENDAR
VERSION:2.0
PRODID:-//Ski Federation - ECPv6.15.20//NONSGML v1.0//EN
CALSCALE:GREGORIAN
METHOD:PUBLISH
X-WR-CALNAME:Ski Federation
X-ORIGINAL-URL:https://skifederation.org
X-WR-CALDESC:Events for Ski Federation
REFRESH-INTERVAL;VALUE=DURATION:PT1H
X-Robots-Tag:noindex
X-PUBLISHED-TTL:PT1H
BEGIN:VTIMEZONE
TZID:America/Detroit
BEGIN:DAYLIGHT
TZOFFSETFROM:-0500
TZOFFSETTO:-0400
TZNAME:EDT
DTSTART:20250309T070000
END:DAYLIGHT
BEGIN:STANDARD
TZOFFSETFROM:-0400
TZOFFSETTO:-0500
TZNAME:EST
DTSTART:20251102T060000
END:STANDARD
BEGIN:DAYLIGHT
TZOFFSETFROM:-0500
TZOFFSETTO:-0400
TZNAME:EDT
DTSTART:20260308T070000
END:DAYLIGHT
BEGIN:STANDARD
TZOFFSETFROM:-0400
TZOFFSETTO:-0500
TZNAME:EST
DTSTART:20261101T060000
END:STANDARD
BEGIN:DAYLIGHT
TZOFFSETFROM:-0500
TZOFFSETTO:-0400
TZNAME:EDT
DTSTART:20270314T070000
END:DAYLIGHT
BEGIN:STANDARD
TZOFFSETFROM:-0400
TZOFFSETTO:-0500
TZNAME:EST
DTSTART:20271107T060000
END:STANDARD
END:VTIMEZONE
BEGIN:VTIMEZONE
TZID:America/New_York
BEGIN:DAYLIGHT
TZOFFSETFROM:-0500
TZOFFSETTO:-0400
TZNAME:EDT
DTSTART:20250309T070000
END:DAYLIGHT
BEGIN:STANDARD
TZOFFSETFROM:-0400
TZOFFSETTO:-0500
TZNAME:EST
DTSTART:20251102T060000
END:STANDARD
BEGIN:DAYLIGHT
TZOFFSETFROM:-0500
TZOFFSETTO:-0400
TZNAME:EDT
DTSTART:20260308T070000
END:DAYLIGHT
BEGIN:STANDARD
TZOFFSETFROM:-0400
TZOFFSETTO:-0500
TZNAME:EST
DTSTART:20261101T060000
END:STANDARD
BEGIN:DAYLIGHT
TZOFFSETFROM:-0500
TZOFFSETTO:-0400
TZNAME:EDT
DTSTART:20270314T070000
END:DAYLIGHT
BEGIN:STANDARD
TZOFFSETFROM:-0400
TZOFFSETTO:-0500
TZNAME:EST
DTSTART:20271107T060000
END:STANDARD
END:VTIMEZONE
BEGIN:VTIMEZONE
TZID:America/Denver
BEGIN:DAYLIGHT
TZOFFSETFROM:-0700
TZOFFSETTO:-0600
TZNAME:MDT
DTSTART:20250309T090000
END:DAYLIGHT
BEGIN:STANDARD
TZOFFSETFROM:-0600
TZOFFSETTO:-0700
TZNAME:MST
DTSTART:20251102T080000
END:STANDARD
BEGIN:DAYLIGHT
TZOFFSETFROM:-0700
TZOFFSETTO:-0600
TZNAME:MDT
DTSTART:20260308T090000
END:DAYLIGHT
BEGIN:STANDARD
TZOFFSETFROM:-0600
TZOFFSETTO:-0700
TZNAME:MST
DTSTART:20261101T080000
END:STANDARD
BEGIN:DAYLIGHT
TZOFFSETFROM:-0700
TZOFFSETTO:-0600
TZNAME:MDT
DTSTART:20270314T090000
END:DAYLIGHT
BEGIN:STANDARD
TZOFFSETFROM:-0600
TZOFFSETTO:-0700
TZNAME:MST
DTSTART:20271107T080000
END:STANDARD
END:VTIMEZONE
BEGIN:VEVENT
DTSTART;TZID=America/Detroit:20260311T190000
DTEND;TZID=America/Detroit:20260311T203000
DTSTAMP:20260422T200156
CREATED:20260224T173645Z
LAST-MODIFIED:20260224T193128Z
UID:25723-1773255600-1773261000@skifederation.org
SUMMARY:NSCF Executive Board Zoom Meeting
DESCRIPTION:There will be an Exec Committee Call Wednesday\, February 11\, 2026 at 7:00 PM EST\, 6:00 PM CST\, 5:00 PM MST and 4:00 PM PST. \nPlease confirm your attendance.  If you can’t attend\, please send a report to  Cheryl & Joe. \nJoin Zoom Meeting: \nhttps://zoom.us/j/92300852046?pwd=NFdtN2xGV1NGVDQySHBsQm9hUEdnUT09 \n\nMeeting ID: 923 0085 2046\nPasscode: 702098
URL:https://skifederation.org/event/nscf-executive-board-zoom-meeting/
ATTACH;FMTTYPE=image/jpeg:https://skifederation.org/wp-content/uploads/2025/12/nscf_logo_high_res-400x200-1.jpg
END:VEVENT
BEGIN:VEVENT
DTSTART;TZID=America/New_York:20260224T120000
DTEND;TZID=America/New_York:20260224T130000
DTSTAMP:20260422T200156
CREATED:20260219T235216Z
LAST-MODIFIED:20260219T235216Z
UID:25687-1771934400-1771938000@skifederation.org
SUMMARY:Zoom for NSCF Website Status Review
DESCRIPTION:Discuss website updates\, changes\, etc.
URL:https://skifederation.org/event/zoom-for-nscf-website-status-review/
ATTACH;FMTTYPE=image/jpeg:https://skifederation.org/wp-content/uploads/2025/12/nscf_logo_high_res-400x200-1.jpg
ORGANIZER;CN="Joe Harvis":MAILTO:webmaster@skifederation.org
END:VEVENT
BEGIN:VEVENT
DTSTART;TZID=America/Denver:20260218T100000
DTEND;TZID=America/Denver:20260218T110000
DTSTAMP:20260422T200156
CREATED:20260213T172017Z
LAST-MODIFIED:20260219T224739Z
UID:25642-1771408800-1771412400@skifederation.org
SUMMARY:NSCF Website Discussion
DESCRIPTION:bi-weekly meeting to discuss the NSCF website
URL:https://skifederation.org/event/nscf-website-discussion/
ATTACH;FMTTYPE=image/jpeg:https://skifederation.org/wp-content/uploads/2025/12/nscf_logo_high_res-400x200-1.jpg
ORGANIZER;CN="Joe Harvis":MAILTO:webmaster@skifederation.org
END:VEVENT
END:VCALENDAR