BEGIN:VCALENDAR
VERSION:2.0
PRODID:-//Ski Federation - ECPv6.15.20//NONSGML v1.0//EN
CALSCALE:GREGORIAN
METHOD:PUBLISH
X-WR-CALNAME:Ski Federation
X-ORIGINAL-URL:https://skifederation.org
X-WR-CALDESC:Events for Ski Federation
REFRESH-INTERVAL;VALUE=DURATION:PT1H
X-Robots-Tag:noindex
X-PUBLISHED-TTL:PT1H
BEGIN:VTIMEZONE
TZID:America/Detroit
BEGIN:DAYLIGHT
TZOFFSETFROM:-0500
TZOFFSETTO:-0400
TZNAME:EDT
DTSTART:20250309T070000
END:DAYLIGHT
BEGIN:STANDARD
TZOFFSETFROM:-0400
TZOFFSETTO:-0500
TZNAME:EST
DTSTART:20251102T060000
END:STANDARD
BEGIN:DAYLIGHT
TZOFFSETFROM:-0500
TZOFFSETTO:-0400
TZNAME:EDT
DTSTART:20260308T070000
END:DAYLIGHT
BEGIN:STANDARD
TZOFFSETFROM:-0400
TZOFFSETTO:-0500
TZNAME:EST
DTSTART:20261101T060000
END:STANDARD
BEGIN:DAYLIGHT
TZOFFSETFROM:-0500
TZOFFSETTO:-0400
TZNAME:EDT
DTSTART:20270314T070000
END:DAYLIGHT
BEGIN:STANDARD
TZOFFSETFROM:-0400
TZOFFSETTO:-0500
TZNAME:EST
DTSTART:20271107T060000
END:STANDARD
END:VTIMEZONE
BEGIN:VTIMEZONE
TZID:America/New_York
BEGIN:DAYLIGHT
TZOFFSETFROM:-0500
TZOFFSETTO:-0400
TZNAME:EDT
DTSTART:20250309T070000
END:DAYLIGHT
BEGIN:STANDARD
TZOFFSETFROM:-0400
TZOFFSETTO:-0500
TZNAME:EST
DTSTART:20251102T060000
END:STANDARD
BEGIN:DAYLIGHT
TZOFFSETFROM:-0500
TZOFFSETTO:-0400
TZNAME:EDT
DTSTART:20260308T070000
END:DAYLIGHT
BEGIN:STANDARD
TZOFFSETFROM:-0400
TZOFFSETTO:-0500
TZNAME:EST
DTSTART:20261101T060000
END:STANDARD
BEGIN:DAYLIGHT
TZOFFSETFROM:-0500
TZOFFSETTO:-0400
TZNAME:EDT
DTSTART:20270314T070000
END:DAYLIGHT
BEGIN:STANDARD
TZOFFSETFROM:-0400
TZOFFSETTO:-0500
TZNAME:EST
DTSTART:20271107T060000
END:STANDARD
END:VTIMEZONE
BEGIN:VTIMEZONE
TZID:America/Denver
BEGIN:DAYLIGHT
TZOFFSETFROM:-0700
TZOFFSETTO:-0600
TZNAME:MDT
DTSTART:20250309T090000
END:DAYLIGHT
BEGIN:STANDARD
TZOFFSETFROM:-0600
TZOFFSETTO:-0700
TZNAME:MST
DTSTART:20251102T080000
END:STANDARD
BEGIN:DAYLIGHT
TZOFFSETFROM:-0700
TZOFFSETTO:-0600
TZNAME:MDT
DTSTART:20260308T090000
END:DAYLIGHT
BEGIN:STANDARD
TZOFFSETFROM:-0600
TZOFFSETTO:-0700
TZNAME:MST
DTSTART:20261101T080000
END:STANDARD
BEGIN:DAYLIGHT
TZOFFSETFROM:-0700
TZOFFSETTO:-0600
TZNAME:MDT
DTSTART:20270314T090000
END:DAYLIGHT
BEGIN:STANDARD
TZOFFSETFROM:-0600
TZOFFSETTO:-0700
TZNAME:MST
DTSTART:20271107T080000
END:STANDARD
END:VTIMEZONE
BEGIN:VEVENT
DTSTART;TZID=America/Detroit:20260311T190000
DTEND;TZID=America/Detroit:20260311T203000
DTSTAMP:20260423T053815
CREATED:20260224T173645Z
LAST-MODIFIED:20260224T193128Z
UID:25723-1773255600-1773261000@skifederation.org
SUMMARY:NSCF Executive Board Zoom Meeting
DESCRIPTION:There will be an Exec Committee Call Wednesday\, February 11\, 2026 at 7:00 PM EST\, 6:00 PM CST\, 5:00 PM MST and 4:00 PM PST. \nPlease confirm your attendance.  If you can’t attend\, please send a report to  Cheryl & Joe. \nJoin Zoom Meeting: \nhttps://zoom.us/j/92300852046?pwd=NFdtN2xGV1NGVDQySHBsQm9hUEdnUT09 \n\nMeeting ID: 923 0085 2046\nPasscode: 702098
URL:https://skifederation.org/event/nscf-executive-board-zoom-meeting/
ATTACH;FMTTYPE=image/jpeg:https://skifederation.org/wp-content/uploads/2025/12/nscf_logo_high_res-400x200-1.jpg
END:VEVENT
BEGIN:VEVENT
DTSTART;TZID=America/New_York:20260427T190000
DTEND;TZID=America/New_York:20260427T203000
DTSTAMP:20260423T053815
CREATED:20260420T002828Z
LAST-MODIFIED:20260421T195946Z
UID:26207-1777316400-1777321800@skifederation.org
SUMMARY:NSCF Executive Board Meeting
DESCRIPTION:There will be an Exec Committee Call Monday\, April 27\, 2026 at 7:00 PM EDT\, 6:00 PM CDT\, 5:00 PM MDT and 4:00 PM PDT. \nPlease confirm your attendance.  If you can’t attend\, please send a report to  Cheryl & Joe.\n\n\nCheryl Mann is inviting you to a scheduled Zoom meeting. \nTopic: NSCF Executive Committee Call \nJoin Zoom Meeting\nhttps://zoom.us/j/92300852046?pwd=NFdtN2xGV1NGVDQySHBsQm9hUEdnUT09\nMeeting ID: 923 0085 2046\nPasscode: 702098\n\nOne tap mobile\n+13017158592\,\,92300852046#\,\,\,\,*702098# US (Washington DC)\n+13126266799\,\,92300852046#\,\,\,\,*702098# US (Chicago)
URL:https://skifederation.org/event/nscf-executive-board-meeting/
CATEGORIES:NSCF Board Meeting
ATTACH;FMTTYPE=image/jpeg:https://skifederation.org/wp-content/uploads/2025/12/nscf_logo_high_res-400x200-1.jpg
ORGANIZER;CN="Joe Harvis":MAILTO:webmaster@skifederation.org
END:VEVENT
BEGIN:VEVENT
DTSTART;TZID=America/Detroit:20260520T190000
DTEND;TZID=America/Detroit:20260520T200000
DTSTAMP:20260423T053815
CREATED:20260421T194446Z
LAST-MODIFIED:20260421T224514Z
UID:26268-1779303600-1779307200@skifederation.org
SUMMARY:MTS Travel Presentation Educational Zoom - SAVE THE DATE
DESCRIPTION:Once again Sara Clemons\, Sports America Tours\, will hit the highlights from her MTS Travel presentation and more.  This is open to all Councils\, their clubs and MTS attendees.\n\nThe Zoom call will be on Wednesday\, May 20\, 2026 at 7pm EDT\, 6pm CDT\, 5pm MDT and 4pm PDT. More details will follow including the Zoom meeting link.
URL:https://skifederation.org/event/mts-travel-presentation-educational-zoom-save-the-date/
CATEGORIES:Education
ATTACH;FMTTYPE=image/jpeg:https://skifederation.org/wp-content/uploads/2025/12/nscf_logo_high_res-400x200-1.jpg
END:VEVENT
BEGIN:VEVENT
DTSTART;VALUE=DATE:20260601
DTEND;VALUE=DATE:20260602
DTSTAMP:20260423T053815
CREATED:20260420T003137Z
LAST-MODIFIED:20260421T000047Z
UID:26209-1780272000-1780358399@skifederation.org
SUMMARY:Annual Meeting Early Bird Registration Deadline
DESCRIPTION:Early bird registration ends today.  After this date standard registration rate applies.
URL:https://skifederation.org/event/annual-meeting-early-bird-registration-deadline/
CATEGORIES:Annual Meeting
ATTACH;FMTTYPE=image/jpeg:https://skifederation.org/wp-content/uploads/2025/12/nscf_logo_high_res-400x200-1.jpg
ORGANIZER;CN="Joe Harvis":MAILTO:webmaster@skifederation.org
END:VEVENT
BEGIN:VEVENT
DTSTART;VALUE=DATE:20260717
DTEND;VALUE=DATE:20260718
DTSTAMP:20260423T053815
CREATED:20260420T003444Z
LAST-MODIFIED:20260421T224201Z
UID:26211-1784246400-1784332799@skifederation.org
SUMMARY:Annual Meeting Registration Ends today
DESCRIPTION:The deadline to register for the Annual Meeting is today.  Registrations after today can not be guaranteed\, although we will try our best to get you registered if space and rooms are available.  There could be an additional cost if we can’t obtain our room rate.
URL:https://skifederation.org/event/annual-meeting-registration-ends-today/
CATEGORIES:Annual Meeting
ATTACH;FMTTYPE=image/jpeg:https://skifederation.org/wp-content/uploads/2025/12/nscf_logo_high_res-400x200-1.jpg
ORGANIZER;CN="Joe Harvis":MAILTO:webmaster@skifederation.org
END:VEVENT
BEGIN:VEVENT
DTSTART;VALUE=DATE:20260724
DTEND;VALUE=DATE:20260725
DTSTAMP:20260423T053815
CREATED:20260420T003932Z
LAST-MODIFIED:20260421T224805Z
UID:26215-1784851200-1784937599@skifederation.org
SUMMARY:Annual Meeting Industry Registration Deadline
DESCRIPTION:The deadline for Industry to register for the Annual Meeting is July 24\, 2026.
URL:https://skifederation.org/event/annual-meeting-industry-registration-deadline/
CATEGORIES:Annual Meeting
ATTACH;FMTTYPE=image/jpeg:https://skifederation.org/wp-content/uploads/2025/12/nscf_logo_high_res-400x200-1.jpg
ORGANIZER;CN="Joe Harvis":MAILTO:webmaster@skifederation.org
END:VEVENT
BEGIN:VEVENT
DTSTART;VALUE=DATE:20260808
DTEND;VALUE=DATE:20260809
DTSTAMP:20260423T053815
CREATED:20260420T004430Z
LAST-MODIFIED:20260421T224123Z
UID:26217-1786147200-1786233599@skifederation.org
SUMMARY:Annual Reports Due
DESCRIPTION:Annual Reports are due from all officers and committee chairs.  Your reports should be a summary of your quarterly reports and include activity/information for May – July.  Please contact me if you need a copy of your quarterly reports for reference.
URL:https://skifederation.org/event/annual-reports-due/
CATEGORIES:Annual Meeting
ATTACH;FMTTYPE=image/jpeg:https://skifederation.org/wp-content/uploads/2025/12/nscf_logo_high_res-400x200-1.jpg
ORGANIZER;CN="Joe Harvis":MAILTO:webmaster@skifederation.org
END:VEVENT
BEGIN:VEVENT
DTSTART;VALUE=DATE:20260820
DTEND;VALUE=DATE:20260824
DTSTAMP:20260423T053815
CREATED:20260420T003735Z
LAST-MODIFIED:20260422T205212Z
UID:26213-1787184000-1787529599@skifederation.org
SUMMARY:NSCF Annual Meeting
DESCRIPTION:The NSCF Annual Meeting will take place August 20 – 23\, 2026 at the Silver Legacy Resort & Casino in Reno\, Nevada.  Please register by June 1 to get the early bird discount.  After June 1 standard registration rates apply and the overall deadline to register is July 17\, 2026.
URL:https://skifederation.org/event/nscf-annual-meeting/
LOCATION:Silver Legacy Resort & Casino\, 407 N Virginia Street\, Reno\, NV\, 89501\, United States
CATEGORIES:Annual Meeting
ATTACH;FMTTYPE=image/jpeg:https://skifederation.org/wp-content/uploads/2025/12/nscf_logo_high_res-400x200-1.jpg
ORGANIZER;CN="Joe Harvis":MAILTO:webmaster@skifederation.org
END:VEVENT
END:VCALENDAR